BEGIN:VCALENDAR
VERSION:2.0
PRODID:-//Brooklyn - ECPv6.15.17.1//NONSGML v1.0//EN
CALSCALE:GREGORIAN
METHOD:PUBLISH
X-WR-CALNAME:Brooklyn
X-ORIGINAL-URL:https://acehotel.com/brooklyn
X-WR-CALDESC:Events for Brooklyn
REFRESH-INTERVAL;VALUE=DURATION:PT1H
X-Robots-Tag:noindex
X-PUBLISHED-TTL:PT1H
BEGIN:VTIMEZONE
TZID:America/New_York
BEGIN:DAYLIGHT
TZOFFSETFROM:-0500
TZOFFSETTO:-0400
TZNAME:EDT
DTSTART:20250309T070000
END:DAYLIGHT
BEGIN:STANDARD
TZOFFSETFROM:-0400
TZOFFSETTO:-0500
TZNAME:EST
DTSTART:20251102T060000
END:STANDARD
BEGIN:DAYLIGHT
TZOFFSETFROM:-0500
TZOFFSETTO:-0400
TZNAME:EDT
DTSTART:20260308T070000
END:DAYLIGHT
BEGIN:STANDARD
TZOFFSETFROM:-0400
TZOFFSETTO:-0500
TZNAME:EST
DTSTART:20261101T060000
END:STANDARD
BEGIN:DAYLIGHT
TZOFFSETFROM:-0500
TZOFFSETTO:-0400
TZNAME:EDT
DTSTART:20270314T070000
END:DAYLIGHT
BEGIN:STANDARD
TZOFFSETFROM:-0400
TZOFFSETTO:-0500
TZNAME:EST
DTSTART:20271107T060000
END:STANDARD
END:VTIMEZONE
BEGIN:VEVENT
DTSTART;TZID=America/New_York:20260509T140000
DTEND;TZID=America/New_York:20260509T190000
DTSTAMP:20260425T084641
CREATED:20260424T201127Z
LAST-MODIFIED:20260424T201458Z
UID:54154-1778335200-1778353200@acehotel.com
SUMMARY:BUDS presents Your Momma Gon' Love This: A Mother's Day Day Party
DESCRIPTION:In collaboration with Ace Hotel Brooklyn\, BUDS presents Your Momma Gon’ Love This — a Mother’s Day day party celebrating mothers\, mother figures\, and the women who made us who we are. \nBring your mom\, your auntie\, your chosen family — come catch a two-step\, share a drink\, sit for a family portrait\, buy her some flowers\, and show her some love. An afternoon rooted in Black joy\, good music\, movement\, and gratitude\, with sounds by DJ Pete Monsanto and flowers by BUDS WRLD. \nA celebration for the women who put in the work\, held us down\, and raised us up. Come take a portrait and make a memory\, and come dance with your momma. She gon’ love this!
URL:https://acehotel.com/brooklyn/going-on/buds-presents-your-momma-gon-love-this-a-mothers-day-party/
LOCATION:The Lobby
CATEGORIES:Ace Hotel Brooklyn
ATTACH;FMTTYPE=image/jpeg:https://acehotel.com/brooklyn/wp-content/uploads/sites/7/2026/04/AC35E1AC-917B-41B2-A90C-7A23269CCA66.jpg
END:VEVENT
END:VCALENDAR