BEGIN:VCALENDAR
VERSION:2.0
PRODID:-//Brooklyn - ECPv6.15.17.1//NONSGML v1.0//EN
CALSCALE:GREGORIAN
METHOD:PUBLISH
X-WR-CALNAME:Brooklyn
X-ORIGINAL-URL:https://acehotel.com/brooklyn
X-WR-CALDESC:Events for Brooklyn
REFRESH-INTERVAL;VALUE=DURATION:PT1H
X-Robots-Tag:noindex
X-PUBLISHED-TTL:PT1H
BEGIN:VTIMEZONE
TZID:America/New_York
BEGIN:DAYLIGHT
TZOFFSETFROM:-0500
TZOFFSETTO:-0400
TZNAME:EDT
DTSTART:20250309T070000
END:DAYLIGHT
BEGIN:STANDARD
TZOFFSETFROM:-0400
TZOFFSETTO:-0500
TZNAME:EST
DTSTART:20251102T060000
END:STANDARD
BEGIN:DAYLIGHT
TZOFFSETFROM:-0500
TZOFFSETTO:-0400
TZNAME:EDT
DTSTART:20260308T070000
END:DAYLIGHT
BEGIN:STANDARD
TZOFFSETFROM:-0400
TZOFFSETTO:-0500
TZNAME:EST
DTSTART:20261101T060000
END:STANDARD
BEGIN:DAYLIGHT
TZOFFSETFROM:-0500
TZOFFSETTO:-0400
TZNAME:EDT
DTSTART:20270314T070000
END:DAYLIGHT
BEGIN:STANDARD
TZOFFSETFROM:-0400
TZOFFSETTO:-0500
TZNAME:EST
DTSTART:20271107T060000
END:STANDARD
END:VTIMEZONE
BEGIN:VEVENT
DTSTART;TZID=America/New_York:20260504T190000
DTEND;TZID=America/New_York:20260505T000000
DTSTAMP:20260425T064317
CREATED:20260422T161019Z
LAST-MODIFIED:20260422T161019Z
UID:54095-1777921200-1777939200@acehotel.com
SUMMARY:On The Rag Issue 02 Launch Party
DESCRIPTION:Casual Encountersz presents America’s first and ONLY art and literary conceptual tabloid On The Rag. Dubbed “America’s Second Greatest Tabloid” by the New York Post\, OTR will celebrate the launch of its second print issue with super short readings and dancing. Copies available for purchase!
URL:https://acehotel.com/brooklyn/going-on/on-the-rag-issue-02-launch-party/
LOCATION:The Lobby
CATEGORIES:Ace Hotel Brooklyn
ATTACH;FMTTYPE=image/jpeg:https://acehotel.com/brooklyn/wp-content/uploads/sites/7/2026/04/2.jpg
END:VEVENT
END:VCALENDAR