BEGIN:VCALENDAR
VERSION:2.0
PRODID:-//Ace Hotel - ECPv6.15.17.1//NONSGML v1.0//EN
CALSCALE:GREGORIAN
METHOD:PUBLISH
X-WR-CALNAME:Ace Hotel
X-ORIGINAL-URL:https://acehotel.com
X-WR-CALDESC:Events for Ace Hotel
REFRESH-INTERVAL;VALUE=DURATION:PT1H
X-Robots-Tag:noindex
X-PUBLISHED-TTL:PT1H
BEGIN:VTIMEZONE
TZID:America/Toronto
BEGIN:DAYLIGHT
TZOFFSETFROM:-0500
TZOFFSETTO:-0400
TZNAME:EDT
DTSTART:20250309T070000
END:DAYLIGHT
BEGIN:STANDARD
TZOFFSETFROM:-0400
TZOFFSETTO:-0500
TZNAME:EST
DTSTART:20251102T060000
END:STANDARD
BEGIN:DAYLIGHT
TZOFFSETFROM:-0500
TZOFFSETTO:-0400
TZNAME:EDT
DTSTART:20260308T070000
END:DAYLIGHT
BEGIN:STANDARD
TZOFFSETFROM:-0400
TZOFFSETTO:-0500
TZNAME:EST
DTSTART:20261101T060000
END:STANDARD
BEGIN:DAYLIGHT
TZOFFSETFROM:-0500
TZOFFSETTO:-0400
TZNAME:EDT
DTSTART:20270314T070000
END:DAYLIGHT
BEGIN:STANDARD
TZOFFSETFROM:-0400
TZOFFSETTO:-0500
TZNAME:EST
DTSTART:20271107T060000
END:STANDARD
END:VTIMEZONE
BEGIN:VEVENT
DTSTART;TZID=America/Toronto:20260530T090000
DTEND;TZID=America/Toronto:20260530T170000
DTSTAMP:20260425T065742
CREATED:20260421T061408Z
LAST-MODIFIED:20260425T062957Z
UID:188692-1780131600-1780160400@acehotel.com
SUMMARY:Creative Sprint / Design Hackathon
DESCRIPTION:  \n\n\n\n\n\n\n\n\n\n\n\nCreative SprintAce Hotel Toronto × Community Agency \nA one-day design session shaped by collaboration\, curiosity and a live brief. \nCommunity is a multidisciplinary agency grounded in branding and design\, working across disciplines and borders. Together\, we bring a room of designers\, writers\, strategists and makers to work through ideas in real time — with space to test\, refine and present. \nSchedule9–10am — Introduction and briefing10am–3pm — Creative sprint3–5pm — Reviews \nFood and refreshments provided. \nApplications open via portfolio submission. Please Apply HERE \n\n\n\n\n\n\n\n\n\n\n\n\n 
URL:https://acehotel.com/going-on/creative-sprint-design-hackathon/
LOCATION:Interspace\, 51 Camden St\, Toronto\, Ontario\, M5V 1V2\, Canada
CATEGORIES:Ace Hotel Toronto
ATTACH;FMTTYPE=image/jpeg:https://acehotel.com/wp-content/uploads/2026/04/ACE-HOTEL-X-COMMUNITY-9X16-1_Page_4-scaled-JcpwqX-scaled.jpg
END:VEVENT
END:VCALENDAR