BEGIN:VCALENDAR
VERSION:2.0
PRODID:-//Ace Hotel - ECPv6.15.17.1//NONSGML v1.0//EN
CALSCALE:GREGORIAN
METHOD:PUBLISH
X-WR-CALNAME:Ace Hotel
X-ORIGINAL-URL:https://acehotel.com
X-WR-CALDESC:Events for Ace Hotel
REFRESH-INTERVAL;VALUE=DURATION:PT1H
X-Robots-Tag:noindex
X-PUBLISHED-TTL:PT1H
BEGIN:VTIMEZONE
TZID:Europe/Athens
BEGIN:DAYLIGHT
TZOFFSETFROM:+0200
TZOFFSETTO:+0300
TZNAME:EEST
DTSTART:20250330T010000
END:DAYLIGHT
BEGIN:STANDARD
TZOFFSETFROM:+0300
TZOFFSETTO:+0200
TZNAME:EET
DTSTART:20251026T010000
END:STANDARD
BEGIN:DAYLIGHT
TZOFFSETFROM:+0200
TZOFFSETTO:+0300
TZNAME:EEST
DTSTART:20260329T010000
END:DAYLIGHT
BEGIN:STANDARD
TZOFFSETFROM:+0300
TZOFFSETTO:+0200
TZNAME:EET
DTSTART:20261025T010000
END:STANDARD
BEGIN:DAYLIGHT
TZOFFSETFROM:+0200
TZOFFSETTO:+0300
TZNAME:EEST
DTSTART:20270328T010000
END:DAYLIGHT
BEGIN:STANDARD
TZOFFSETFROM:+0300
TZOFFSETTO:+0200
TZNAME:EET
DTSTART:20271031T010000
END:STANDARD
END:VTIMEZONE
BEGIN:VEVENT
DTSTART;TZID=Europe/Athens:20260510T110000
DTEND;TZID=Europe/Athens:20260510T170000
DTSTAMP:20260425T152147
CREATED:20260423T161347Z
LAST-MODIFIED:20260425T162835Z
UID:188784-1778410800-1778432400@acehotel.com
SUMMARY:Mother’s Day Brunch
DESCRIPTION:Treat mum to something special this Mother’s Day. \nJoin us for a relaxed brunch served inside (or out on the Sebastian terrace\, with live DJ sets from 12–5pm) to keep the good vibes going all afternoon. \nTo make the day even sweeter\, we’re treating every table to a sharing dessert on us.
URL:https://acehotel.com/going-on/mothers-day-brunch/
LOCATION:Sebastian
CATEGORIES:Ace Hotel Athens
ATTACH;FMTTYPE=image/jpeg:https://acehotel.com/wp-content/uploads/2026/04/a4-5-ZnL7An.jpg
END:VEVENT
END:VCALENDAR